BEGIN:VCALENDAR
VERSION:2.0
PRODID:-//TürkÇek Kültür-İşbirliği Derneği - ECPv6.0.13//NONSGML v1.0//EN
CALSCALE:GREGORIAN
METHOD:PUBLISH
X-WR-CALNAME:TürkÇek Kültür-İşbirliği Derneği
X-ORIGINAL-URL:https://tckid.cz
X-WR-CALDESC:TürkÇek Kültür-İşbirliği Derneği için etkinlikler
REFRESH-INTERVAL;VALUE=DURATION:PT1H
X-Robots-Tag:noindex
X-PUBLISHED-TTL:PT1H
BEGIN:VTIMEZONE
TZID:UTC
BEGIN:STANDARD
TZOFFSETFROM:+0000
TZOFFSETTO:+0000
TZNAME:UTC
DTSTART:20210101T000000
END:STANDARD
END:VTIMEZONE
BEGIN:VEVENT
DTSTART;TZID=UTC:20211120T130000
DTEND;TZID=UTC:20211120T130000
DTSTAMP:20260425T220552
CREATED:20211118T144343Z
LAST-MODIFIED:20211118T145352Z
UID:2501-1637413200-1637413200@tckid.cz
SUMMARY:Zinde ile Yürüyoruz!
DESCRIPTION:Cumartesi günü  ” Zinde Brno” spor grubumuzun ilk buluşması gerçekleşiyor. Yapacağımız hafif tempolu koşumuzda sizleri de aramızda görmekten mutluluk duyarız. \n\nHavlu ve sularınızı yanınızda almayı unutmayın!\n\n  \n* Sosyal medya hesaplarımızdan bizi takip edebilirsiniz. \nhttps://instagram.com/stories/tckid.cz/ \nhttps://www.facebook.com/103142384919901/posts/ \n  \n  \n  \n 
URL:https://tckid.cz/etkinlik/zinde-ile-yuruyoruz/
LOCATION:Luzanky Park\, Pionýrská\, 602 00 Brno-střed\, Brno\, Czech Republic
CATEGORIES:Türk Etkinklikleri
ATTACH;FMTTYPE=image/jpeg:https://tckid.cz/wp-content/uploads/2021/11/WhatsApp-Image-2021-11-18-at-14.51.29.jpeg
END:VEVENT
BEGIN:VEVENT
DTSTART;TZID=UTC:20211128T120000
DTEND;TZID=UTC:20211128T170000
DTSTAMP:20260425T220552
CREATED:20211126T114415Z
LAST-MODIFIED:20211126T114415Z
UID:2576-1638100800-1638118800@tckid.cz
SUMMARY:Zinde ile Yürüyoruz!
DESCRIPTION:28 Kasım Pazar günü saat 12.00’de düzenleyeceğimiz yürüyüş etkinliğimiz için Brno barajının girişinde yer alan Přístavní Kotva(Anchor of Hope) yapıtının önünde buluşuyoruz.\nLütfen yanınızda yedek tişört getirmeyi unutmayınız!\nDaha fazla bilgi almak için bizi sosyal medya hesaplarımızdan takipiniz!\n\nhttps://instagram.com/stories/tckid.cz/ \n 
URL:https://tckid.cz/etkinlik/zinde-ile-yuruyoruz-2/
LOCATION:Přístavní\, 635 00 Brno-Bystrc\, Přístavní\, 635 00 Brno-Bystrc\, Brno\, Brno\, 63500\, Czech Republic
CATEGORIES:Türk Etkinklikleri
ATTACH;FMTTYPE=image/jpeg:https://tckid.cz/wp-content/uploads/2021/11/zinde-2.jpg
END:VEVENT
END:VCALENDAR