BEGIN:VCALENDAR
VERSION:2.0
PRODID:-//TürkÇek Kültür-İşbirliği Derneği - ECPv6.0.13//NONSGML v1.0//EN
CALSCALE:GREGORIAN
METHOD:PUBLISH
X-ORIGINAL-URL:https://tckid.cz
X-WR-CALDESC:TürkÇek Kültür-İşbirliği Derneği için etkinlikler
REFRESH-INTERVAL;VALUE=DURATION:PT1H
X-Robots-Tag:noindex
X-PUBLISHED-TTL:PT1H
BEGIN:VTIMEZONE
TZID:UTC
BEGIN:STANDARD
TZOFFSETFROM:+0000
TZOFFSETTO:+0000
TZNAME:UTC
DTSTART:20210101T000000
END:STANDARD
END:VTIMEZONE
BEGIN:VEVENT
DTSTART;TZID=UTC:20211003T100000
DTEND;TZID=UTC:20211003T120000
DTSTAMP:20260425T235006
CREATED:20210913T130237Z
LAST-MODIFIED:20210914T085339Z
UID:2173-1633255200-1633262400@tckid.cz
SUMMARY:Çek-Türk Dostluk Derneği Çocuk Oyun Kulübü
DESCRIPTION:Çek-Türk Dostluk Derneği Çocuk Oyun Kulübü
URL:https://tckid.cz/etkinlik/cek-turk-dostluk-dernegi-cocuk-oyun-kulubu/
LOCATION:EMBERA s.r.o\, V Lesíčku 579/3\, 150 00\, Praha\, Czech Republic
CATEGORIES:Genel
ATTACH;FMTTYPE=image/webp:https://tckid.cz/wp-content/uploads/2021/09/kidslearningandteaching.webp
END:VEVENT
BEGIN:VEVENT
DTSTART;TZID=UTC:20211029T180000
DTEND;TZID=UTC:20211029T220000
DTSTAMP:20260425T235006
CREATED:20211018T075951Z
LAST-MODIFIED:20211027T102039Z
UID:2400-1635530400-1635544800@tckid.cz
SUMMARY:29 Ekim Cumhuriyet Balosu - Prag
DESCRIPTION:Cumhuriyetimizin 98. yılını düzenleyeceğimz Cumhuriyet Balosu ile kutlamanın onur ve gururunu hep birlikte yaşayalım. \nMurat Maytahan ile Atatürk’ün Sevdiği Şarkılar Konseri \nÖzgür Öztürk: +420 608 52 1907 \n@ Restaurace U Marčanů
URL:https://tckid.cz/etkinlik/29-ekim-prag/
CATEGORIES:Genel,Türk Etkinklikleri
ATTACH;FMTTYPE=image/jpeg:https://tckid.cz/wp-content/uploads/2021/10/29EKIM.jpeg
END:VEVENT
END:VCALENDAR